<VRTDataset rasterXSize="370000" rasterYSize="310000">
  <SRS>PROJCS["Polar_Stereographic",GEOGCS["GCS_WGS_1984",DATUM["WGS_1984",SPHEROID["WGS_1984",6378137.0,298.257223563]],PRIMEM["Greenwich",0.0],UNIT["Degree",0.0174532925199433]],PROJECTION["Polar_Stereographic"],PARAMETER["false_easting",0.0],PARAMETER["false_northing",0.0],PARAMETER["central_meridian",0.0],PARAMETER["latitude_of_origin",-71.0],UNIT["Meter",1.0]]</SRS>
  <GeoTransform>-2.7000000000000000e+006, 1.5000000000000000e+001, 0.0000000000000000e+000, 2.4000000000000000e+006, 0.0000000000000000e+000,-1.5000000000000000e+001</GeoTransform>
  <VRTRasterBand dataType="Byte" band="1">
    <ColorInterp>Red</ColorInterp>
    <SimpleSource>
      <SourceFilename relativeToVRT="1">CIRREF_x+0000000y+0750000.jpg</SourceFilename>
      <SourceBand>1</SourceBand>
      <SourceProperties RasterXSize="10000" RasterYSize="10000" DataType="Byte" BlockXSize="10000" BlockYSize="1" />
      <SrcRect xOff="0" yOff="0" xSize="10000" ySize="10000" />
      <DstRect xOff="180000" yOff="100000" xSize="10000" ySize="10000" />
    </SimpleSource>
    <SimpleSource>
      <SourceFilename relativeToVRT="1">CIRREF_x+0000000y+0900000.jpg</SourceFilename>
      <SourceBand>1</SourceBand>
      <SourceProperties RasterXSize="10000" RasterYSize="10000" DataType="Byte" BlockXSize="10000" BlockYSize="1" />
      <SrcRect xOff="0" yOff="0" xSize="10000" ySize="10000" />
      <DstRect xOff="180000" yOff="90000" xSize="10000" ySize="10000" />
    </SimpleSource>
    <SimpleSource>
      <SourceFilename relativeToVRT="1">CIRREF_x+0000000y+1050000.jpg</SourceFilename>
      <SourceBand>1</SourceBand>
      <SourceProperties RasterXSize="10000" RasterYSize="10000" DataType="Byte" BlockXSize="10000" BlockYSize="1" />
      <SrcRect xOff="0" yOff="0" xSize="10000" ySize="10000" />
      <DstRect xOff="180000" yOff="80000" xSize="10000" ySize="10000" />
    </SimpleSource>
    <SimpleSource>
      <SourceFilename relativeToVRT="1">CIRREF_x+0000000y+1200000.jpg</SourceFilename>
      <SourceBand>1</SourceBand>
      <SourceProperties RasterXSize="10000" RasterYSize="10000" DataType="Byte" BlockXSize="10000" BlockYSize="1" />
      <SrcRect xOff="0" yOff="0" xSize="10000" ySize="10000" />
      <DstRect xOff="180000" yOff="70000" xSize="10000" ySize="10000" />
    </SimpleSource>
    <SimpleSource>
      <SourceFilename relativeToVRT="1">CIRREF_x+0000000y+1350000.jpg</SourceFilename>
      <SourceBand>1</SourceBand>
      <SourceProperties RasterXSize="10000" RasterYSize="10000" DataType="Byte" BlockXSize="10000" BlockYSize="1" />
      <SrcRect xOff="0" yOff="0" xSize="10000" ySize="10000" />
      <DstRect xOff="180000" yOff="60000" xSize="10000" ySize="10000" />
    </SimpleSource>
    <SimpleSource>
      <SourceFilename relativeToVRT="1">CIRREF_x+0000000y+1500000.jpg</SourceFilename>
      <SourceBand>1</SourceBand>
      <SourceProperties RasterXSize="10000" RasterYSize="10000" DataType="Byte" BlockXSize="10000" BlockYSize="1" />
      <SrcRect xOff="0" yOff="0" xSize="10000" ySize="10000" />
      <DstRect xOff="180000" yOff="50000" xSize="10000" ySize="10000" />
    </SimpleSource>
    <SimpleSource>
      <SourceFilename relativeToVRT="1">CIRREF_x+0000000y+1650000.jpg</SourceFilename>
      <SourceBand>1</SourceBand>
      <SourceProperties RasterXSize="10000" RasterYSize="10000" DataType="Byte" BlockXSize="10000" BlockYSize="1" />
      <SrcRect xOff="0" yOff="0" xSize="10000" ySize="10000" />
      <DstRect xOff="180000" yOff="40000" xSize="10000" ySize="10000" />
    </SimpleSource>
    <SimpleSource>
      <SourceFilename relativeToVRT="1">CIRREF_x+0000000y+1800000.jpg</SourceFilename>
      <SourceBand>1</SourceBand>
      <SourceProperties RasterXSize="10000" RasterYSize="10000" DataType="Byte" BlockXSize="10000" BlockYSize="1" />
      <SrcRect xOff="0" yOff="0" xSize="10000" ySize="10000" />
      <DstRect xOff="180000" yOff="30000" xSize="10000" ySize="10000" />
    </SimpleSource>
    <SimpleSource>
      <SourceFilename relativeToVRT="1">CIRREF_x+0000000y+1950000.jpg</SourceFilename>
      <SourceBand>1</SourceBand>
      <SourceProperties RasterXSize="10000" RasterYSize="10000" DataType="Byte" BlockXSize="10000" BlockYSize="1" />
      <SrcRect xOff="0" yOff="0" xSize="10000" ySize="10000" />
      <DstRect xOff="180000" yOff="20000" xSize="10000" ySize="10000" />
    </SimpleSource>
    <SimpleSource>
      <SourceFilename relativeToVRT="1">CIRREF_x+0000000y+2100000.jpg</SourceFilename>
      <SourceBand>1</SourceBand>
      <SourceProperties RasterXSize="10000" RasterYSize="10000" DataType="Byte" BlockXSize="10000" BlockYSize="1" />
      <SrcRect xOff="0" yOff="0" xSize="10000" ySize="10000" />
      <DstRect xOff="180000" yOff="10000" xSize="10000" ySize="10000" />
    </SimpleSource>
    <SimpleSource>
      <SourceFilename relativeToVRT="1">CIRREF_x+0000000y-0900000.jpg</SourceFilename>
      <SourceBand>1</SourceBand>
      <SourceProperties RasterXSize="10000" RasterYSize="10000" DataType="Byte" BlockXSize="10000" BlockYSize="1" />
      <SrcRect xOff="0" yOff="0" xSize="10000" ySize="10000" />
      <DstRect xOff="180000" yOff="210000" xSize="10000" ySize="10000" />
    </SimpleSource>
    <SimpleSource>
      <SourceFilename relativeToVRT="1">CIRREF_x+0000000y-1050000.jpg</SourceFilename>
      <SourceBand>1</SourceBand>
      <SourceProperties RasterXSize="10000" RasterYSize="10000" DataType="Byte" BlockXSize="10000" BlockYSize="1" />
      <SrcRect xOff="0" yOff="0" xSize="10000" ySize="10000" />
      <DstRect xOff="180000" yOff="220000" xSize="10000" ySize="10000" />
    </SimpleSource>
    <SimpleSource>
      <SourceFilename relativeToVRT="1">CIRREF_x+0000000y-1200000.jpg</SourceFilename>
      <SourceBand>1</SourceBand>
      <SourceProperties RasterXSize="10000" RasterYSize="10000" DataType="Byte" BlockXSize="10000" BlockYSize="1" />
      <SrcRect xOff="0" yOff="0" xSize="10000" ySize="10000" />
      <DstRect xOff="180000" yOff="230000" xSize="10000" ySize="10000" />
    </SimpleSource>
    <SimpleSource>
      <SourceFilename relativeToVRT="1">CIRREF_x+0000000y-1350000.jpg</SourceFilename>
      <SourceBand>1</SourceBand>
      <SourceProperties RasterXSize="10000" RasterYSize="10000" DataType="Byte" BlockXSize="10000" BlockYSize="1" />
      <SrcRect xOff="0" yOff="0" xSize="10000" ySize="10000" />
      <DstRect xOff="180000" yOff="240000" xSize="10000" ySize="10000" />
    </SimpleSource>
    <SimpleSource>
      <SourceFilename relativeToVRT="1">CIRREF_x+0000000y-1500000.jpg</SourceFilename>
      <SourceBand>1</SourceBand>
      <SourceProperties RasterXSize="10000" RasterYSize="10000" DataType="Byte" BlockXSize="10000" BlockYSize="1" />
      <SrcRect xOff="0" yOff="0" xSize="10000" ySize="10000" />
      <DstRect xOff="180000" yOff="250000" xSize="10000" ySize="10000" />
    </SimpleSource>
    <SimpleSource>
      <SourceFilename relativeToVRT="1">CIRREF_x+0150000y+0600000.jpg</SourceFilename>
      <SourceBand>1</SourceBand>
      <SourceProperties RasterXSize="10000" RasterYSize="10000" DataType="Byte" BlockXSize="10000" BlockYSize="1" />
      <SrcRect xOff="0" yOff="0" xSize="10000" ySize="10000" />
      <DstRect xOff="190000" yOff="110000" xSize="10000" ySize="10000" />
    </SimpleSource>
    <SimpleSource>
      <SourceFilename relativeToVRT="1">CIRREF_x+0150000y+0750000.jpg</SourceFilename>
      <SourceBand>1</SourceBand>
      <SourceProperties RasterXSize="10000" RasterYSize="10000" DataType="Byte" BlockXSize="10000" BlockYSize="1" />
      <SrcRect xOff="0" yOff="0" xSize="10000" ySize="10000" />
      <DstRect xOff="190000" yOff="100000" xSize="10000" ySize="10000" />
    </SimpleSource>
    <SimpleSource>
      <SourceFilename relativeToVRT="1">CIRREF_x+0150000y+0900000.jpg</SourceFilename>
      <SourceBand>1</SourceBand>
      <SourceProperties RasterXSize="10000" RasterYSize="10000" DataType="Byte" BlockXSize="10000" BlockYSize="1" />
      <SrcRect xOff="0" yOff="0" xSize="10000" ySize="10000" />
      <DstRect xOff="190000" yOff="90000" xSize="10000" ySize="10000" />
    </SimpleSource>
    <SimpleSource>
      <SourceFilename relativeToVRT="1">CIRREF_x+0150000y+1050000.jpg</SourceFilename>
      <SourceBand>1</SourceBand>
      <SourceProperties RasterXSize="10000" RasterYSize="10000" DataType="Byte" BlockXSize="10000" BlockYSize="1" />
      <SrcRect xOff="0" yOff="0" xSize="10000" ySize="10000" />
      <DstRect xOff="190000" yOff="80000" xSize="10000" ySize="10000" />
    </SimpleSource>
    <SimpleSource>
      <SourceFilename relativeToVRT="1">CIRREF_x+0150000y+1200000.jpg</SourceFilename>
      <SourceBand>1</SourceBand>
      <SourceProperties RasterXSize="10000" RasterYSize="10000" DataType="Byte" BlockXSize="10000" BlockYSize="1" />
      <SrcRect xOff="0" yOff="0" xSize="10000" ySize="10000" />
      <DstRect xOff="190000" yOff="70000" xSize="10000" ySize="10000" />
    </SimpleSource>
    <SimpleSource>
      <SourceFilename relativeToVRT="1">CIRREF_x+0150000y+1350000.jpg</SourceFilename>
      <SourceBand>1</SourceBand>
      <SourceProperties RasterXSize="10000" RasterYSize="10000" DataType="Byte" BlockXSize="10000" BlockYSize="1" />
      <SrcRect xOff="0" yOff="0" xSize="10000" ySize="10000" />
      <DstRect xOff="190000" yOff="60000" xSize="10000" ySize="10000" />
    </SimpleSource>
    <SimpleSource>
      <SourceFilename relativeToVRT="1">CIRREF_x+0150000y+1500000.jpg</SourceFilename>
      <SourceBand>1</SourceBand>
      <SourceProperties RasterXSize="10000" RasterYSize="10000" DataType="Byte" BlockXSize="10000" BlockYSize="1" />
      <SrcRect xOff="0" yOff="0" xSize="10000" ySize="10000" />
      <DstRect xOff="190000" yOff="50000" xSize="10000" ySize="10000" />
    </SimpleSource>
    <SimpleSource>
      <SourceFilename relativeToVRT="1">CIRREF_x+0150000y+1650000.jpg</SourceFilename>
      <SourceBand>1</SourceBand>
      <SourceProperties RasterXSize="10000" RasterYSize="10000" DataType="Byte" BlockXSize="10000" BlockYSize="1" />
      <SrcRect xOff="0" yOff="0" xSize="10000" ySize="10000" />
      <DstRect xOff="190000" yOff="40000" xSize="10000" ySize="10000" />
    </SimpleSource>
    <SimpleSource>
      <SourceFilename relativeToVRT="1">CIRREF_x+0150000y+1800000.jpg</SourceFilename>
      <SourceBand>1</SourceBand>
      <SourceProperties RasterXSize="10000" RasterYSize="10000" DataType="Byte" BlockXSize="10000" BlockYSize="1" />
      <SrcRect xOff="0" yOff="0" xSize="10000" ySize="10000" />
      <DstRect xOff="190000" yOff="30000" xSize="10000" ySize="10000" />
    </SimpleSource>
    <SimpleSource>
      <SourceFilename relativeToVRT="1">CIRREF_x+0150000y+1950000.jpg</SourceFilename>
      <SourceBand>1</SourceBand>
      <SourceProperties RasterXSize="10000" RasterYSize="10000" DataType="Byte" BlockXSize="10000" BlockYSize="1" />
      <SrcRect xOff="0" yOff="0" xSize="10000" ySize="10000" />
      <DstRect xOff="190000" yOff="20000" xSize="10000" ySize="10000" />
    </SimpleSource>
    <SimpleSource>
      <SourceFilename relativeToVRT="1">CIRREF_x+0150000y+2100000.jpg</SourceFilename>
      <SourceBand>1</SourceBand>
      <SourceProperties RasterXSize="10000" RasterYSize="10000" DataType="Byte" BlockXSize="10000" BlockYSize="1" />
      <SrcRect xOff="0" yOff="0" xSize="10000" ySize="10000" />
      <DstRect xOff="190000" yOff="10000" xSize="10000" ySize="10000" />
    </SimpleSource>
    <SimpleSource>
      <SourceFilename relativeToVRT="1">CIRREF_x+0150000y-0750000.jpg</SourceFilename>
      <SourceBand>1</SourceBand>
      <SourceProperties RasterXSize="10000" RasterYSize="10000" DataType="Byte" BlockXSize="10000" BlockYSize="1" />
      <SrcRect xOff="0" yOff="0" xSize="10000" ySize="10000" />
      <DstRect xOff="190000" yOff="200000" xSize="10000" ySize="10000" />
    </SimpleSource>
    <SimpleSource>
      <SourceFilename relativeToVRT="1">CIRREF_x+0150000y-0900000.jpg</SourceFilename>
      <SourceBand>1</SourceBand>
      <SourceProperties RasterXSize="10000" RasterYSize="10000" DataType="Byte" BlockXSize="10000" BlockYSize="1" />
      <SrcRect xOff="0" yOff="0" xSize="10000" ySize="10000" />
      <DstRect xOff="190000" yOff="210000" xSize="10000" ySize="10000" />
    </SimpleSource>
    <SimpleSource>
      <SourceFilename relativeToVRT="1">CIRREF_x+0150000y-1050000.jpg</SourceFilename>
      <SourceBand>1</SourceBand>
      <SourceProperties RasterXSize="10000" RasterYSize="10000" DataType="Byte" BlockXSize="10000" BlockYSize="1" />
      <SrcRect xOff="0" yOff="0" xSize="10000" ySize="10000" />
      <DstRect xOff="190000" yOff="220000" xSize="10000" ySize="10000" />
    </SimpleSource>
    <SimpleSource>
      <SourceFilename relativeToVRT="1">CIRREF_x+0150000y-1200000.jpg</SourceFilename>
      <SourceBand>1</SourceBand>
      <SourceProperties RasterXSize="10000" RasterYSize="10000" DataType="Byte" BlockXSize="10000" BlockYSize="1" />
      <SrcRect xOff="0" yOff="0" xSize="10000" ySize="10000" />
      <DstRect xOff="190000" yOff="230000" xSize="10000" ySize="10000" />
    </SimpleSource>
    <SimpleSource>
      <SourceFilename relativeToVRT="1">CIRREF_x+0150000y-1350000.jpg</SourceFilename>
      <SourceBand>1</SourceBand>
      <SourceProperties RasterXSize="10000" RasterYSize="10000" DataType="Byte" BlockXSize="10000" BlockYSize="1" />
      <SrcRect xOff="0" yOff="0" xSize="10000" ySize="10000" />
      <DstRect xOff="190000" yOff="240000" xSize="10000" ySize="10000" />
    </SimpleSource>
    <SimpleSource>
      <SourceFilename relativeToVRT="1">CIRREF_x+0150000y-1500000.jpg</SourceFilename>
      <SourceBand>1</SourceBand>
      <SourceProperties RasterXSize="10000" RasterYSize="10000" DataType="Byte" BlockXSize="10000" BlockYSize="1" />
      <SrcRect xOff="0" yOff="0" xSize="10000" ySize="10000" />
      <DstRect xOff="190000" yOff="250000" xSize="10000" ySize="10000" />
    </SimpleSource>
    <SimpleSource>
      <SourceFilename relativeToVRT="1">CIRREF_x+0150000y-1950000.jpg</SourceFilename>
      <SourceBand>1</SourceBand>
      <SourceProperties RasterXSize="10000" RasterYSize="10000" DataType="Byte" BlockXSize="10000" BlockYSize="1" />
      <SrcRect xOff="0" yOff="0" xSize="10000" ySize="10000" />
      <DstRect xOff="190000" yOff="280000" xSize="10000" ySize="10000" />
    </SimpleSource>
    <SimpleSource>
      <SourceFilename relativeToVRT="1">CIRREF_x+0150000y-2100000.jpg</SourceFilename>
      <SourceBand>1</SourceBand>
      <SourceProperties RasterXSize="10000" RasterYSize="10000" DataType="Byte" BlockXSize="10000" BlockYSize="1" />
      <SrcRect xOff="0" yOff="0" xSize="10000" ySize="10000" />
      <DstRect xOff="190000" yOff="290000" xSize="10000" ySize="10000" />
    </SimpleSource>
    <SimpleSource>
      <SourceFilename relativeToVRT="1">CIRREF_x+0300000y+0600000.jpg</SourceFilename>
      <SourceBand>1</SourceBand>
      <SourceProperties RasterXSize="10000" RasterYSize="10000" DataType="Byte" BlockXSize="10000" BlockYSize="1" />
      <SrcRect xOff="0" yOff="0" xSize="10000" ySize="10000" />
      <DstRect xOff="200000" yOff="110000" xSize="10000" ySize="10000" />
    </SimpleSource>
    <SimpleSource>
      <SourceFilename relativeToVRT="1">CIRREF_x+0300000y+0750000.jpg</SourceFilename>
      <SourceBand>1</SourceBand>
      <SourceProperties RasterXSize="10000" RasterYSize="10000" DataType="Byte" BlockXSize="10000" BlockYSize="1" />
      <SrcRect xOff="0" yOff="0" xSize="10000" ySize="10000" />
      <DstRect xOff="200000" yOff="100000" xSize="10000" ySize="10000" />
    </SimpleSource>
    <SimpleSource>
      <SourceFilename relativeToVRT="1">CIRREF_x+0300000y+0900000.jpg</SourceFilename>
      <SourceBand>1</SourceBand>
      <SourceProperties RasterXSize="10000" RasterYSize="10000" DataType="Byte" BlockXSize="10000" BlockYSize="1" />
      <SrcRect xOff="0" yOff="0" xSize="10000" ySize="10000" />
      <DstRect xOff="200000" yOff="90000" xSize="10000" ySize="10000" />
    </SimpleSource>
    <SimpleSource>
      <SourceFilename relativeToVRT="1">CIRREF_x+0300000y+1050000.jpg</SourceFilename>
      <SourceBand>1</SourceBand>
      <SourceProperties RasterXSize="10000" RasterYSize="10000" DataType="Byte" BlockXSize="10000" BlockYSize="1" />
      <SrcRect xOff="0" yOff="0" xSize="10000" ySize="10000" />
      <DstRect xOff="200000" yOff="80000" xSize="10000" ySize="10000" />
    </SimpleSource>
    <SimpleSource>
      <SourceFilename relativeToVRT="1">CIRREF_x+0300000y+1200000.jpg</SourceFilename>
      <SourceBand>1</SourceBand>
      <SourceProperties RasterXSize="10000" RasterYSize="10000" DataType="Byte" BlockXSize="10000" BlockYSize="1" />
      <SrcRect xOff="0" yOff="0" xSize="10000" ySize="10000" />
      <DstRect xOff="200000" yOff="70000" xSize="10000" ySize="10000" />
    </SimpleSource>
    <SimpleSource>
      <SourceFilename relativeToVRT="1">CIRREF_x+0300000y+1350000.jpg</SourceFilename>
      <SourceBand>1</SourceBand>
      <SourceProperties RasterXSize="10000" RasterYSize="10000" DataType="Byte" BlockXSize="10000" BlockYSize="1" />
      <SrcRect xOff="0" yOff="0" xSize="10000" ySize="10000" />
      <DstRect xOff="200000" yOff="60000" xSize="10000" ySize="10000" />
    </SimpleSource>
    <SimpleSource>
      <SourceFilename relativeToVRT="1">CIRREF_x+0300000y+1500000.jpg</SourceFilename>
      <SourceBand>1</SourceBand>
      <SourceProperties RasterXSize="10000" RasterYSize="10000" DataType="Byte" BlockXSize="10000" BlockYSize="1" />
      <SrcRect xOff="0" yOff="0" xSize="10000" ySize="10000" />
      <DstRect xOff="200000" yOff="50000" xSize="10000" ySize="10000" />
    </SimpleSource>
    <SimpleSource>
      <SourceFilename relativeToVRT="1">CIRREF_x+0300000y+1650000.jpg</SourceFilename>
      <SourceBand>1</SourceBand>
      <SourceProperties RasterXSize="10000" RasterYSize="10000" DataType="Byte" BlockXSize="10000" BlockYSize="1" />
      <SrcRect xOff="0" yOff="0" xSize="10000" ySize="10000" />
      <DstRect xOff="200000" yOff="40000" xSize="10000" ySize="10000" />
    </SimpleSource>
    <SimpleSource>
      <SourceFilename relativeToVRT="1">CIRREF_x+0300000y+1800000.jpg</SourceFilename>
      <SourceBand>1</SourceBand>
      <SourceProperties RasterXSize="10000" RasterYSize="10000" DataType="Byte" BlockXSize="10000" BlockYSize="1" />
      <SrcRect xOff="0" yOff="0" xSize="10000" ySize="10000" />
      <DstRect xOff="200000" yOff="30000" xSize="10000" ySize="10000" />
    </SimpleSource>
    <SimpleSource>
      <SourceFilename relativeToVRT="1">CIRREF_x+0300000y+1950000.jpg</SourceFilename>
      <SourceBand>1</SourceBand>
      <SourceProperties RasterXSize="10000" RasterYSize="10000" DataType="Byte" BlockXSize="10000" BlockYSize="1" />
      <SrcRect xOff="0" yOff="0" xSize="10000" ySize="10000" />
      <DstRect xOff="200000" yOff="20000" xSize="10000" ySize="10000" />
    </SimpleSource>
    <SimpleSource>
      <SourceFilename relativeToVRT="1">CIRREF_x+0300000y+2100000.jpg</SourceFilename>
      <SourceBand>1</SourceBand>
      <SourceProperties RasterXSize="10000" RasterYSize="10000" DataType="Byte" BlockXSize="10000" BlockYSize="1" />
      <SrcRect xOff="0" yOff="0" xSize="10000" ySize="10000" />
      <DstRect xOff="200000" yOff="10000" xSize="10000" ySize="10000" />
    </SimpleSource>
    <SimpleSource>
      <SourceFilename relativeToVRT="1">CIRREF_x+0300000y-0750000.jpg</SourceFilename>
      <SourceBand>1</SourceBand>
      <SourceProperties RasterXSize="10000" RasterYSize="10000" DataType="Byte" BlockXSize="10000" BlockYSize="1" />
      <SrcRect xOff="0" yOff="0" xSize="10000" ySize="10000" />
      <DstRect xOff="200000" yOff="200000" xSize="10000" ySize="10000" />
    </SimpleSource>
    <SimpleSource>
      <SourceFilename relativeToVRT="1">CIRREF_x+0300000y-0900000.jpg</SourceFilename>
      <SourceBand>1</SourceBand>
      <SourceProperties RasterXSize="10000" RasterYSize="10000" DataType="Byte" BlockXSize="10000" BlockYSize="1" />
      <SrcRect xOff="0" yOff="0" xSize="10000" ySize="10000" />
      <DstRect xOff="200000" yOff="210000" xSize="10000" ySize="10000" />
    </SimpleSource>
    <SimpleSource>
      <SourceFilename relativeToVRT="1">CIRREF_x+0300000y-1050000.jpg</SourceFilename>
      <SourceBand>1</SourceBand>
      <SourceProperties RasterXSize="10000" RasterYSize="10000" DataType="Byte" BlockXSize="10000" BlockYSize="1" />
      <SrcRect xOff="0" yOff="0" xSize="10000" ySize="10000" />
      <DstRect xOff="200000" yOff="220000" xSize="10000" ySize="10000" />
    </SimpleSource>
    <SimpleSource>
      <SourceFilename relativeToVRT="1">CIRREF_x+0300000y-1200000.jpg</SourceFilename>
      <SourceBand>1</SourceBand>
      <SourceProperties RasterXSize="10000" RasterYSize="10000" DataType="Byte" BlockXSize="10000" BlockYSize="1" />
      <SrcRect xOff="0" yOff="0" xSize="10000" ySize="10000" />
      <DstRect xOff="200000" yOff="230000" xSize="10000" ySize="10000" />
    </SimpleSource>
    <SimpleSource>
      <SourceFilename relativeToVRT="1">CIRREF_x+0300000y-1350000.jpg</SourceFilename>
      <SourceBand>1</SourceBand>
      <SourceProperties RasterXSize="10000" RasterYSize="10000" DataType="Byte" BlockXSize="10000" BlockYSize="1" />
      <SrcRect xOff="0" yOff="0" xSize="10000" ySize="10000" />
      <DstRect xOff="200000" yOff="240000" xSize="10000" ySize="10000" />
    </SimpleSource>
    <SimpleSource>
      <SourceFilename relativeToVRT="1">CIRREF_x+0300000y-1500000.jpg</SourceFilename>
      <SourceBand>1</SourceBand>
      <SourceProperties RasterXSize="10000" RasterYSize="10000" DataType="Byte" BlockXSize="10000" BlockYSize="1" />
      <SrcRect xOff="0" yOff="0" xSize="10000" ySize="10000" />
      <DstRect xOff="200000" yOff="250000" xSize="10000" ySize="10000" />
    </SimpleSource>
    <SimpleSource>
      <SourceFilename relativeToVRT="1">CIRREF_x+0300000y-1650000.jpg</SourceFilename>
      <SourceBand>1</SourceBand>
      <SourceProperties RasterXSize="10000" RasterYSize="10000" DataType="Byte" BlockXSize="10000" BlockYSize="1" />
      <SrcRect xOff="0" yOff="0" xSize="10000" ySize="10000" />
      <DstRect xOff="200000" yOff="260000" xSize="10000" ySize="10000" />
    </SimpleSource>
    <SimpleSource>
      <SourceFilename relativeToVRT="1">CIRREF_x+0300000y-1800000.jpg</SourceFilename>
      <SourceBand>1</SourceBand>
      <SourceProperties RasterXSize="10000" RasterYSize="10000" DataType="Byte" BlockXSize="10000" BlockYSize="1" />
      <SrcRect xOff="0" yOff="0" xSize="10000" ySize="10000" />
      <DstRect xOff="200000" yOff="270000" xSize="10000" ySize="10000" />
    </SimpleSource>
    <SimpleSource>
      <SourceFilename relativeToVRT="1">CIRREF_x+0300000y-1950000.jpg</SourceFilename>
      <SourceBand>1</SourceBand>
      <SourceProperties RasterXSize="10000" RasterYSize="10000" DataType="Byte" BlockXSize="10000" BlockYSize="1" />
      <SrcRect xOff="0" yOff="0" xSize="10000" ySize="10000" />
      <DstRect xOff="200000" yOff="280000" xSize="10000" ySize="10000" />
    </SimpleSource>
    <SimpleSource>
      <SourceFilename relativeToVRT="1">CIRREF_x+0300000y-2100000.jpg</SourceFilename>
      <SourceBand>1</SourceBand>
      <SourceProperties RasterXSize="10000" RasterYSize="10000" DataType="Byte" BlockXSize="10000" BlockYSize="1" />
      <SrcRect xOff="0" yOff="0" xSize="10000" ySize="10000" />
      <DstRect xOff="200000" yOff="290000" xSize="10000" ySize="10000" />
    </SimpleSource>
    <SimpleSource>
      <SourceFilename relativeToVRT="1">CIRREF_x+0450000y+0450000.jpg</SourceFilename>
      <SourceBand>1</SourceBand>
      <SourceProperties RasterXSize="10000" RasterYSize="10000" DataType="Byte" BlockXSize="10000" BlockYSize="1" />
      <SrcRect xOff="0" yOff="0" xSize="10000" ySize="10000" />
      <DstRect xOff="210000" yOff="120000" xSize="10000" ySize="10000" />
    </SimpleSource>
    <SimpleSource>
      <SourceFilename relativeToVRT="1">CIRREF_x+0450000y+0600000.jpg</SourceFilename>
      <SourceBand>1</SourceBand>
